BEGIN:VCALENDAR
PRODID:-//PUBBLE//agenda//NL
VERSION:2.0
METHOD:PUBLISH
BEGIN:VEVENT
DTSTART:20260424T070000Z
DTEND:20260605T180000Z
DTSTAMP:20260422T140847Z
UID:8c884ac5-d0a6-4356-b48b-8b190eac1c34
CREATED:20260422T140847Z
NAME:Pioenrozen verkoop in Gameren bommelerwaardgids.nl
X-WR-CALNAME:Pioenrozen verkoop in Gameren
X-ALT-DESC;FMTTYPE=text/html:<a href='/agenda/2026/4/24/pioenrozen-verkoop-in-gameren-23510'>/agenda/2026/4/24/pioenrozen-verkoop-in-gameren-23510</a> || <p><strong>De koningin der bloemen (zo wordt de pioenroos ook wel genoemd) is er weer!</strong></p>
DESCRIPTION:<a href='/agenda/2026/4/24/pioenrozen-verkoop-in-gameren-23510'>/agenda/2026/4/24/pioenrozen-verkoop-in-gameren-23510</a> || <p><strong>De koningin der bloemen (zo wordt de pioenroos ook wel genoemd) is er weer!</strong></p>
LAST-MODIFIED:20260422T140847Z
LOCATION: Kwekerij de Kloe | Jacob Ekelmansstraat 47 Gameren
SEQUENCE:0
STATUS:CONFIRMED
SUMMARY:Pioenrozen verkoop in Gameren
TRANSP:OPAQUE
END:VEVENT
END:VCALENDAR
