BEGIN:VCALENDAR
PRODID:-//PUBBLE//agenda//NL
VERSION:2.0
METHOD:PUBLISH
BEGIN:VEVENT
DTSTART:20260424T170000Z
DTEND:20260424T180000Z
DTSTAMP:20260424T051825Z
UID:12c6ecb0-a18b-4034-918d-8232cb73ada7
CREATED:20260424T051825Z
NAME:Open avond Koetsiershuis bommelerwaardgids.nl
X-WR-CALNAME:Open avond Koetsiershuis
X-ALT-DESC;FMTTYPE=text/html:<a href='/agenda/2026/4/24/open-avond-koetsiershuis-23483'>/agenda/2026/4/24/open-avond-koetsiershuis-23483</a> || <p>Aanvang 19:00 uur, Koetsiershuis, naast Huis Brakel, Brakel</p><p>Open avond Stichting De Vier Heerlijkheden in Brakel. Oude gebruiksvoorwerken, gereedschappen, textiel, foto’s en documenten</p><p>Open avond in het in Koetsiershuis in Brakel</p><p>Op elke laatste vrijdagavond van de maand is de ruimte van de Historische Werkgroep Stichting De Vier Heerlijkheden in Brakel opengesteld. We geven u graag een rondleiding en laten dan de oude gebruiksvoorwerpen, gereedschappen en textiel zien. Er is een vitrines die u iets vertelt over de Tweede Wereldoorlog en in andere vitrines zijn o.a. voorwerpen te zien die als reclame-uitingen voor de bedrijven in de dorpen Brakel, Aalst Poederoijen en Zuilichem gebruikt werden. U moet vooral de tijd nemen om onze indrukwekkende foto-albums door te bladeren. De verzameling van de Vier Heerlijkheden bevindt zich in het Koetsiershuis naast Huis Brakel op het adres Dwarssteeg 4. Deze maand op vrijdagavond 24 april van 19.00 – 22.00 uur</p><p><a href="https://www.vierheerlijkheden.nl/" rel="noopener noreferrer" target="_blank">www.vierheerlijkheden.nl</a></p>
DESCRIPTION:<a href='/agenda/2026/4/24/open-avond-koetsiershuis-23483'>/agenda/2026/4/24/open-avond-koetsiershuis-23483</a> || <p>Aanvang 19:00 uur, Koetsiershuis, naast Huis Brakel, Brakel</p><p>Open avond Stichting De Vier Heerlijkheden in Brakel. Oude gebruiksvoorwerken, gereedschappen, textiel, foto’s en documenten</p><p>Open avond in het in Koetsiershuis in Brakel</p><p>Op elke laatste vrijdagavond van de maand is de ruimte van de Historische Werkgroep Stichting De Vier Heerlijkheden in Brakel opengesteld. We geven u graag een rondleiding en laten dan de oude gebruiksvoorwerpen, gereedschappen en textiel zien. Er is een vitrines die u iets vertelt over de Tweede Wereldoorlog en in andere vitrines zijn o.a. voorwerpen te zien die als reclame-uitingen voor de bedrijven in de dorpen Brakel, Aalst Poederoijen en Zuilichem gebruikt werden. U moet vooral de tijd nemen om onze indrukwekkende foto-albums door te bladeren. De verzameling van de Vier Heerlijkheden bevindt zich in het Koetsiershuis naast Huis Brakel op het adres Dwarssteeg 4. Deze maand op vrijdagavond 24 april van 19.00 – 22.00 uur</p><p><a href="https://www.vierheerlijkheden.nl/" rel="noopener noreferrer" target="_blank">www.vierheerlijkheden.nl</a></p>
LAST-MODIFIED:20260424T051825Z
LOCATION: Huis Brakel | Dwarssteeg 2 Brakel
SEQUENCE:0
STATUS:CONFIRMED
SUMMARY:Open avond Koetsiershuis
TRANSP:OPAQUE
END:VEVENT
END:VCALENDAR
