BEGIN:VCALENDAR
PRODID:-//PUBBLE//agenda//NL
VERSION:2.0
METHOD:PUBLISH
BEGIN:VEVENT
DTSTART:20260427T080000Z
DTEND:20260427T153000Z
DTSTAMP:20260421T173050Z
UID:3db2369a-fee8-46d7-823f-54a37f4cf74b
CREATED:20260421T173050Z
NAME:Kindervrijmarkt Zaltbommel bommelerwaardgids.nl
X-WR-CALNAME:Kindervrijmarkt Zaltbommel
X-ALT-DESC;FMTTYPE=text/html:<a href='/agenda/2026/4/27/kindervrijmarkt-zaltbommel-23478'>/agenda/2026/4/27/kindervrijmarkt-zaltbommel-23478</a> || <p>Op Koningsdag zijn kinderen van harte welkom om hun spulletjes te verkopen op de kindervrijmarkt.Ook zijn er de Oranje Spel &amp; Spelen op de Markt.&nbsp;</p>
DESCRIPTION:<a href='/agenda/2026/4/27/kindervrijmarkt-zaltbommel-23478'>/agenda/2026/4/27/kindervrijmarkt-zaltbommel-23478</a> || <p>Op Koningsdag zijn kinderen van harte welkom om hun spulletjes te verkopen op de kindervrijmarkt.Ook zijn er de Oranje Spel &amp; Spelen op de Markt.&nbsp;</p>
LAST-MODIFIED:20260421T173050Z
LOCATION: Binnenstad Zaltbommel | Waterstraat 6 Zaltbommel
SEQUENCE:0
STATUS:CONFIRMED
SUMMARY:Kindervrijmarkt Zaltbommel
TRANSP:OPAQUE
END:VEVENT
END:VCALENDAR
