BEGIN:VCALENDAR
PRODID:-//PUBBLE//agenda//NL
VERSION:2.0
METHOD:PUBLISH
BEGIN:VEVENT
DTSTART:20260425T120000Z
DTEND:20260425T170000Z
DTSTAMP:20260421T172203Z
UID:f153fcc3-1808-4527-8100-03913f63a4f3
CREATED:20260421T172203Z
NAME:Voorjaarsproeverij van Mijn huiswijn bommelerwaardgids.nl
X-WR-CALNAME:Voorjaarsproeverij van Mijn huiswijn
X-ALT-DESC;FMTTYPE=text/html:<a href='/agenda/2026/4/25/voorjaarsproeverij-van-mijn-huiswijn-23472'>/agenda/2026/4/25/voorjaarsproeverij-van-mijn-huiswijn-23472</a> || <p><strong>Kom wijn proeven op de voorjaarsproeverij van Mijn huiswijn</strong></p><p>Zaterdag 25 april ben je welkom op de voorjaarsproeverij van Mijn huiswijn. Er zijn verschillende wijnen te proeven en allemaal onder de tien euro.<br><br>𝗣𝗿𝗮𝗸𝘁𝗶𝘀𝗰𝗵:<br>- Locatie: de Kosterijstraat, Bruchem<br>- Datum en Tijd: 25 april, tussen 14:00 en 17:00</p><p>- Kost niets</p><p>- Aanmelden niet nodig</p><p>- Meer informatie: check de te proeven wijnen op de website.</p>
DESCRIPTION:<a href='/agenda/2026/4/25/voorjaarsproeverij-van-mijn-huiswijn-23472'>/agenda/2026/4/25/voorjaarsproeverij-van-mijn-huiswijn-23472</a> || <p><strong>Kom wijn proeven op de voorjaarsproeverij van Mijn huiswijn</strong></p><p>Zaterdag 25 april ben je welkom op de voorjaarsproeverij van Mijn huiswijn. Er zijn verschillende wijnen te proeven en allemaal onder de tien euro.<br><br>𝗣𝗿𝗮𝗸𝘁𝗶𝘀𝗰𝗵:<br>- Locatie: de Kosterijstraat, Bruchem<br>- Datum en Tijd: 25 april, tussen 14:00 en 17:00</p><p>- Kost niets</p><p>- Aanmelden niet nodig</p><p>- Meer informatie: check de te proeven wijnen op de website.</p>
LAST-MODIFIED:20260421T172203Z
LOCATION: Mijn huiswijn |   Bruchem
SEQUENCE:0
STATUS:CONFIRMED
SUMMARY:Voorjaarsproeverij van Mijn huiswijn
TRANSP:OPAQUE
END:VEVENT
END:VCALENDAR
