BEGIN:VCALENDAR
PRODID:-//PUBBLE//agenda//NL
VERSION:2.0
METHOD:PUBLISH
BEGIN:VEVENT
DTSTART:20260425T073000Z
DTEND:20260425T103000Z
DTSTAMP:20260421T171238Z
UID:e97901a3-5c6f-4507-9da0-ba51d999db83
CREATED:20260421T171238Z
NAME:Snuffelschuur weer open bommelerwaardgids.nl
X-WR-CALNAME:Snuffelschuur weer open
X-ALT-DESC;FMTTYPE=text/html:<a href='/agenda/2026/4/25/snuffelschuur-weer-open-23465'>/agenda/2026/4/25/snuffelschuur-weer-open-23465</a> || <p>Van 9:30 tot 12:30 uur, Hoogveldweg 8, Kerkwijk</p><p>Komende zaterdag weer van harte uitgenodigd om te komen snuffelen tussen het brede assortiment tweedehands artikelen. Ook mooie perkplanten te koop!</p>
DESCRIPTION:<a href='/agenda/2026/4/25/snuffelschuur-weer-open-23465'>/agenda/2026/4/25/snuffelschuur-weer-open-23465</a> || <p>Van 9:30 tot 12:30 uur, Hoogveldweg 8, Kerkwijk</p><p>Komende zaterdag weer van harte uitgenodigd om te komen snuffelen tussen het brede assortiment tweedehands artikelen. Ook mooie perkplanten te koop!</p>
LAST-MODIFIED:20260421T171238Z
LOCATION: Snuffelschuur  | Hoogveldweg 8 Kerkwijk
SEQUENCE:0
STATUS:CONFIRMED
SUMMARY:Snuffelschuur weer open
TRANSP:OPAQUE
END:VEVENT
END:VCALENDAR
