BEGIN:VCALENDAR
PRODID:-//PUBBLE//agenda//NL
VERSION:2.0
METHOD:PUBLISH
BEGIN:VEVENT
DTSTART:20251220T080000Z
DTEND:20260104T150000Z
DTSTAMP:20260424T234600Z
UID:5c248a7c-11d6-4eb5-8237-3ce99911d781
CREATED:20260424T234600Z
NAME:Kerstvakantie op Slot Loevestein bommelerwaardgids.nl
X-WR-CALNAME:Kerstvakantie op Slot Loevestein
X-ALT-DESC;FMTTYPE=text/html:<a href='/agenda/2025/12/20/kerstvakantie-op-slot-loevestein-22547'>/agenda/2025/12/20/kerstvakantie-op-slot-loevestein-22547</a> || <p><strong>Warme winterverhalen op Loevestein</strong></p><p>Deze kerstvakantie (20 december 2025 – 4 januari 2026) straalt Loevestein in volle kerstsfeer. De Keucken en de Grote Zael zijn feestelijk aangekleed, terwijl in de vesting overal fonkelende lichtjes branden. Het kasteel is daarmee een sfeervol decor vol lichtjes en warme winterverhalen op deze donkere dagen.</p><p><strong>Winterse verhalen</strong></p><p>Op Loevestein leven al meer dan 650 jaar mensen die samen werken, wonen én feest vieren.&nbsp;De grote ridderzaal werd gebruikt voor speciale gelegenheden zoals feesten en partijen, rechtspraken en kerkdiensten. Wie weet wat voor mooie Kerstfeesten ridder Dirc Loef van Horne er gehouden heeft, hij had immers geld in overvloed. Zijn kerstdiners waren vast heel extravagant met middeleeuwse gerechten zoals fazantpastei en brood met amandelmelk.</p><p>Hugo de Groot had het minder luxe. Als gevangenen at hij ‘erwtensoep met maar twee erwten’ en gepekelde vis. Niet echt een feestmaal dus.&nbsp;De museumgidsen vertellen je in de vakantie nog veel meer over het winterse leven op Loevestein.</p><p><strong>Collectie op tafel</strong></p><p>Deze kerstvakantie zijn de Grote Zael en Keucken versierd met wintergroen zoals dat in vroegere eeuwen tijdens winterse feesten werd gedaan. In het midden van de Zael zijn twee tafels feestelijk gedekt met servies. En dat is niet zomaar servies, maar servies wat is gevonden op de vesting en ook echt op Loevestein is gebruikt. Van dit servies heeft Hugo wellicht gegeten. En wie bracht een proost uit met het bijzondere pronkglas?</p><p><strong>Bijzondere winteravonden</strong></p><p>Van 27 t/m 30 december blijven de poorten open tot in de avonduren Geniet van de prachtig verlichte vesting en unieke wintersfeer. Doe met de kinderen mee met de historische vossenjacht en knutsel een mooie lantaarn!</p><p><strong>Praktische informatie</strong></p><p>Kerstvakantie op Loevestein van 20 december t/m 4 januari, van 10:00 – 17:00 uur. Gesloten op 1e Kerstdag, Oudejaarsdag en Nieuwjaarsdag.&nbsp;</p><p>Een kaartje koop je vooraf online of aan de kassa. Heb je een Museumkaart of Vriendenloterij VIP-pas? Dan heb je gratis toegang. Laat je kaart scannen bij de kassa.&nbsp;</p><p>Bekijk alle details en het programma op: <a href="https://www.slotloevestein.nl/agenda/kerstvakantie" rel="noopener noreferrer" target="_blank">https://www.slotloevestein.nl/agenda/kerstvakantie</a></p>
DESCRIPTION:<a href='/agenda/2025/12/20/kerstvakantie-op-slot-loevestein-22547'>/agenda/2025/12/20/kerstvakantie-op-slot-loevestein-22547</a> || <p><strong>Warme winterverhalen op Loevestein</strong></p><p>Deze kerstvakantie (20 december 2025 – 4 januari 2026) straalt Loevestein in volle kerstsfeer. De Keucken en de Grote Zael zijn feestelijk aangekleed, terwijl in de vesting overal fonkelende lichtjes branden. Het kasteel is daarmee een sfeervol decor vol lichtjes en warme winterverhalen op deze donkere dagen.</p><p><strong>Winterse verhalen</strong></p><p>Op Loevestein leven al meer dan 650 jaar mensen die samen werken, wonen én feest vieren.&nbsp;De grote ridderzaal werd gebruikt voor speciale gelegenheden zoals feesten en partijen, rechtspraken en kerkdiensten. Wie weet wat voor mooie Kerstfeesten ridder Dirc Loef van Horne er gehouden heeft, hij had immers geld in overvloed. Zijn kerstdiners waren vast heel extravagant met middeleeuwse gerechten zoals fazantpastei en brood met amandelmelk.</p><p>Hugo de Groot had het minder luxe. Als gevangenen at hij ‘erwtensoep met maar twee erwten’ en gepekelde vis. Niet echt een feestmaal dus.&nbsp;De museumgidsen vertellen je in de vakantie nog veel meer over het winterse leven op Loevestein.</p><p><strong>Collectie op tafel</strong></p><p>Deze kerstvakantie zijn de Grote Zael en Keucken versierd met wintergroen zoals dat in vroegere eeuwen tijdens winterse feesten werd gedaan. In het midden van de Zael zijn twee tafels feestelijk gedekt met servies. En dat is niet zomaar servies, maar servies wat is gevonden op de vesting en ook echt op Loevestein is gebruikt. Van dit servies heeft Hugo wellicht gegeten. En wie bracht een proost uit met het bijzondere pronkglas?</p><p><strong>Bijzondere winteravonden</strong></p><p>Van 27 t/m 30 december blijven de poorten open tot in de avonduren Geniet van de prachtig verlichte vesting en unieke wintersfeer. Doe met de kinderen mee met de historische vossenjacht en knutsel een mooie lantaarn!</p><p><strong>Praktische informatie</strong></p><p>Kerstvakantie op Loevestein van 20 december t/m 4 januari, van 10:00 – 17:00 uur. Gesloten op 1e Kerstdag, Oudejaarsdag en Nieuwjaarsdag.&nbsp;</p><p>Een kaartje koop je vooraf online of aan de kassa. Heb je een Museumkaart of Vriendenloterij VIP-pas? Dan heb je gratis toegang. Laat je kaart scannen bij de kassa.&nbsp;</p><p>Bekijk alle details en het programma op: <a href="https://www.slotloevestein.nl/agenda/kerstvakantie" rel="noopener noreferrer" target="_blank">https://www.slotloevestein.nl/agenda/kerstvakantie</a></p>
LAST-MODIFIED:20260424T234600Z
LOCATION: Slot Loevestein | Loevestein 1 Poederoijen
SEQUENCE:0
STATUS:CONFIRMED
SUMMARY:Kerstvakantie op Slot Loevestein
TRANSP:OPAQUE
END:VEVENT
END:VCALENDAR
