BEGIN:VCALENDAR
PRODID:-//PUBBLE//agenda//NL
VERSION:2.0
METHOD:PUBLISH
BEGIN:VEVENT
DTSTART:20251122T120000Z
DTEND:20260124T150000Z
DTSTAMP:20260419T123410Z
UID:0d680307-c4d8-4ca5-8511-b765da974f1f
CREATED:20260419T123410Z
NAME:Expositie Peter van OOrschot bommelerwaardgids.nl
X-WR-CALNAME:Expositie Peter van OOrschot
X-ALT-DESC;FMTTYPE=text/html:<a href='/agenda/2025/11/22/expositie-peter-van-oorschot-22511'>/agenda/2025/11/22/expositie-peter-van-oorschot-22511</a> || <p>Peter van Oorschot tekenleraar &nbsp;toont zijn werk</p><p>Hij gebruik diverse technieken en materialen: inkt, olie- en acrylverf, aquarel, pastelkrijt op papier en doek of paneel. Dit past bij mijn opleiding tot tekenleraar.</p><p>De formaten zijn heel verschillend: van 2 bij 3 meter tot kleintjes van 10 bij 10 centimeter. De voorstellingen zijn ook heel divers: van realistisch tot abstract, vanuit de waarneming tot aan koppelingen met de kunstgeschiedenis.</p><p>Al met al hangt het samen met mijn persoonlijke reacties op hetgeen ik waarneem in de wereld om me heen.</p>
DESCRIPTION:<a href='/agenda/2025/11/22/expositie-peter-van-oorschot-22511'>/agenda/2025/11/22/expositie-peter-van-oorschot-22511</a> || <p>Peter van Oorschot tekenleraar &nbsp;toont zijn werk</p><p>Hij gebruik diverse technieken en materialen: inkt, olie- en acrylverf, aquarel, pastelkrijt op papier en doek of paneel. Dit past bij mijn opleiding tot tekenleraar.</p><p>De formaten zijn heel verschillend: van 2 bij 3 meter tot kleintjes van 10 bij 10 centimeter. De voorstellingen zijn ook heel divers: van realistisch tot abstract, vanuit de waarneming tot aan koppelingen met de kunstgeschiedenis.</p><p>Al met al hangt het samen met mijn persoonlijke reacties op hetgeen ik waarneem in de wereld om me heen.</p>
LAST-MODIFIED:20260419T123410Z
LOCATION: Historisch Museum Hedel | Voorstraat 2 Hedel
SEQUENCE:0
STATUS:CONFIRMED
SUMMARY:Expositie Peter van OOrschot
TRANSP:OPAQUE
END:VEVENT
END:VCALENDAR
