BEGIN:VCALENDAR
PRODID:-//PUBBLE//agenda//NL
VERSION:2.0
METHOD:PUBLISH
BEGIN:VEVENT
DTSTART:20250907T110000Z
DTEND:20250907T140000Z
DTSTAMP:20260421T171429Z
UID:d8d5fe86-c215-4ecb-a993-184c1a7b4e9c
CREATED:20260421T171429Z
NAME:Tafelronde 194 | Duckrace 2025 bommelerwaardgids.nl
X-WR-CALNAME:Tafelronde 194 | Duckrace 2025
X-ALT-DESC;FMTTYPE=text/html:<a href='/agenda/2025/9/7/tafelronde-194-duckrace-2025-21846'>/agenda/2025/9/7/tafelronde-194-duckrace-2025-21846</a> || <p>Aanvang 13:00 uur, Parkeiland, Zaltbommel</p><p>Jaarlijkse Duckrace van Tafelronde 194 Bommelerwaard. De opbrengst is dit jaar voor Stichting Waakmand Zaltbommel. Een eendje kopen kan via: <a href="https://rt194.nl/duckrace-2025/" rel="noopener noreferrer" target="_blank">www.rt194.nl</a></p><p>Taferonde 194 Bommerlerwaard organiseert wederom de jaarlijkse Duckrace op Parkeiland, De Waluwe in Zaltbommel. Met steun van lokale bedrijven en particulieren halen we geld op voor het goede doel - Stichting Waakmand Bommelerwaard. De stichting zet zich belangeloos in om mantelzorgers voor ongeneeslijk zieken een extra steuntje in de rug geven: een gratis mand vol troostrijke, handige en zinvolle zaken, waarmee de tijd aan het bed een stukje lichter kan worden.</p><p>De opbrengst van de Duckrace wordt dit jaar geschonken aan dit doel om de manden voldoende beschikbaar te kunnen stellen voor zij die het nodig hebben in een al heftige periode.</p><p>Steun ook het goede doel door eendjes te kopen voor de race via <a href="https://rt194.nl/duckrace-2025/" rel="noopener noreferrer" target="_blank">https://rt194.nl/duckrace-2025/</a> en maak kans op mooie prijzen!</p>
DESCRIPTION:<a href='/agenda/2025/9/7/tafelronde-194-duckrace-2025-21846'>/agenda/2025/9/7/tafelronde-194-duckrace-2025-21846</a> || <p>Aanvang 13:00 uur, Parkeiland, Zaltbommel</p><p>Jaarlijkse Duckrace van Tafelronde 194 Bommelerwaard. De opbrengst is dit jaar voor Stichting Waakmand Zaltbommel. Een eendje kopen kan via: <a href="https://rt194.nl/duckrace-2025/" rel="noopener noreferrer" target="_blank">www.rt194.nl</a></p><p>Taferonde 194 Bommerlerwaard organiseert wederom de jaarlijkse Duckrace op Parkeiland, De Waluwe in Zaltbommel. Met steun van lokale bedrijven en particulieren halen we geld op voor het goede doel - Stichting Waakmand Bommelerwaard. De stichting zet zich belangeloos in om mantelzorgers voor ongeneeslijk zieken een extra steuntje in de rug geven: een gratis mand vol troostrijke, handige en zinvolle zaken, waarmee de tijd aan het bed een stukje lichter kan worden.</p><p>De opbrengst van de Duckrace wordt dit jaar geschonken aan dit doel om de manden voldoende beschikbaar te kunnen stellen voor zij die het nodig hebben in een al heftige periode.</p><p>Steun ook het goede doel door eendjes te kopen voor de race via <a href="https://rt194.nl/duckrace-2025/" rel="noopener noreferrer" target="_blank">https://rt194.nl/duckrace-2025/</a> en maak kans op mooie prijzen!</p>
LAST-MODIFIED:20260421T171429Z
LOCATION: Parkeiland de Waluwe |   Zaltbommel
SEQUENCE:0
STATUS:CONFIRMED
SUMMARY:Tafelronde 194 | Duckrace 2025
TRANSP:OPAQUE
END:VEVENT
END:VCALENDAR
