BEGIN:VCALENDAR
PRODID:-//PUBBLE//agenda//NL
VERSION:2.0
METHOD:PUBLISH
BEGIN:VEVENT
DTSTART:20250816T130000Z
DTEND:20250816T210000Z
DTSTAMP:20260421T095734Z
UID:09ad57ef-555e-4d27-a108-5887c1abf6da
CREATED:20260421T095734Z
NAME:Foodtruckfestival Zaltbommel bommelerwaardgids.nl
X-WR-CALNAME:Foodtruckfestival Zaltbommel
X-ALT-DESC;FMTTYPE=text/html:<a href='/agenda/2025/8/16/foodtruckfestival-zaltbommel-21679'>/agenda/2025/8/16/foodtruckfestival-zaltbommel-21679</a> || <p>Smakelijk genieten van lekker eten en goede muziek.</p>
DESCRIPTION:<a href='/agenda/2025/8/16/foodtruckfestival-zaltbommel-21679'>/agenda/2025/8/16/foodtruckfestival-zaltbommel-21679</a> || <p>Smakelijk genieten van lekker eten en goede muziek.</p>
LAST-MODIFIED:20260421T095734Z
LOCATION: Binnenstad Zaltbommel | Waterstraat 6 Zaltbommel
SEQUENCE:0
STATUS:CONFIRMED
SUMMARY:Foodtruckfestival Zaltbommel
TRANSP:OPAQUE
END:VEVENT
END:VCALENDAR
