BEGIN:VCALENDAR
PRODID:-//PUBBLE//agenda//NL
VERSION:2.0
METHOD:PUBLISH
BEGIN:VEVENT
DTSTART:20250717T080000Z
DTEND:20250721T150000Z
DTSTAMP:20260424T102202Z
UID:300f3ab8-8217-48f0-b8f3-832ca9311e8b
CREATED:20260424T102202Z
NAME:Middeleeuws kampement op Slot Loevestein bommelerwaardgids.nl
X-WR-CALNAME:Middeleeuws kampement op Slot Loevestein
X-ALT-DESC;FMTTYPE=text/html:<a href='/agenda/2025/7/17/middeleeuws-kampement-op-slot-loevestein-21484'>/agenda/2025/7/17/middeleeuws-kampement-op-slot-loevestein-21484</a> || <p>Vergeet de tijd en verlies jezelf in de middeleeuwen van 17 t/m 21 juli op Slot Loevestein. Zodra je onder de toegangspoort door komt, stap je terug in de tijd en dompel jezelf onder in een wereld vol historie en avontuur. Laat je verwonderen en verrassen door de middeleeuwse sfeer in de vesting. Leer hoe mensen vroeger leefden, dansten en vochten. Ontdek de geheimen van de ridders, vecht mee in de ridderschool en leer middeleeuwse danspassen. Dwaal door het 15e-eeuwse kampement, kijk binnen in een tent, dans op de klanken van de troubadour en snuif de geuren op uit de middeleeuwse keuken. Neem een kijkje bij de oude ambachten zoals kaarsen maken, wol verven, spinnen, handwerken, touwslagerij, wapenschouw en meer.</p><p><strong>Zomervakantie vol ridders, avontuur en plezier</strong></p><p>De hele zomervakantie staat in het teken van ridders bij Slot Loevestein. Ontmoet ridders, leer boogschieten van de kasteelschutter, speel oudhollandse spellen, strijd mee in de ridder- en jonkvrouwspelen en laat zien hoe moedig en behendig je bent! Verkleed je als dappere ridder, stoere jonkvrouw, of gewoon als jezelf en beleef een onvergetelijke dag vol historie, spanning en plezier.Daarnaast zijn er elke woensdag creatieve workshops, oudhollandse spellen op vrijdag, en elke dag speurtochten en het populaire klimparcours. Help Hugo tijdens een spannende zoektocht of dwaal door de geheime trappen van het kasteel op zoek naar de mysterieuze kist van Hugo de Groot.</p><p><strong>Praktische informatie</strong></p><p>In de zomervakantie, van 5 juli t/m 31 augustus, is Loevestein elke dag open van 10:00 – 17:00 uur. Een kaartje koop je online of aan de kassa, de museumkaart, Vriendenloterij VIP-pas en vestingpas zijn geldig. Alle genoemde activiteiten zijn inbegrepen bij je entree. Kijk voor alle informatie, data en activiteiten op de website, <a href="https://www.slotloevestein.nl/agenda/middeleeuws-kampement/" rel="noopener noreferrer" target="_blank">www.slotloevestein.nl/agenda/zomervakantie</a></p>
DESCRIPTION:<a href='/agenda/2025/7/17/middeleeuws-kampement-op-slot-loevestein-21484'>/agenda/2025/7/17/middeleeuws-kampement-op-slot-loevestein-21484</a> || <p>Vergeet de tijd en verlies jezelf in de middeleeuwen van 17 t/m 21 juli op Slot Loevestein. Zodra je onder de toegangspoort door komt, stap je terug in de tijd en dompel jezelf onder in een wereld vol historie en avontuur. Laat je verwonderen en verrassen door de middeleeuwse sfeer in de vesting. Leer hoe mensen vroeger leefden, dansten en vochten. Ontdek de geheimen van de ridders, vecht mee in de ridderschool en leer middeleeuwse danspassen. Dwaal door het 15e-eeuwse kampement, kijk binnen in een tent, dans op de klanken van de troubadour en snuif de geuren op uit de middeleeuwse keuken. Neem een kijkje bij de oude ambachten zoals kaarsen maken, wol verven, spinnen, handwerken, touwslagerij, wapenschouw en meer.</p><p><strong>Zomervakantie vol ridders, avontuur en plezier</strong></p><p>De hele zomervakantie staat in het teken van ridders bij Slot Loevestein. Ontmoet ridders, leer boogschieten van de kasteelschutter, speel oudhollandse spellen, strijd mee in de ridder- en jonkvrouwspelen en laat zien hoe moedig en behendig je bent! Verkleed je als dappere ridder, stoere jonkvrouw, of gewoon als jezelf en beleef een onvergetelijke dag vol historie, spanning en plezier.Daarnaast zijn er elke woensdag creatieve workshops, oudhollandse spellen op vrijdag, en elke dag speurtochten en het populaire klimparcours. Help Hugo tijdens een spannende zoektocht of dwaal door de geheime trappen van het kasteel op zoek naar de mysterieuze kist van Hugo de Groot.</p><p><strong>Praktische informatie</strong></p><p>In de zomervakantie, van 5 juli t/m 31 augustus, is Loevestein elke dag open van 10:00 – 17:00 uur. Een kaartje koop je online of aan de kassa, de museumkaart, Vriendenloterij VIP-pas en vestingpas zijn geldig. Alle genoemde activiteiten zijn inbegrepen bij je entree. Kijk voor alle informatie, data en activiteiten op de website, <a href="https://www.slotloevestein.nl/agenda/middeleeuws-kampement/" rel="noopener noreferrer" target="_blank">www.slotloevestein.nl/agenda/zomervakantie</a></p>
LAST-MODIFIED:20260424T102202Z
LOCATION: Slot Loevestein | Loevestein 1 Poederoijen
SEQUENCE:0
STATUS:CONFIRMED
SUMMARY:Middeleeuws kampement op Slot Loevestein
TRANSP:OPAQUE
END:VEVENT
END:VCALENDAR
