BEGIN:VCALENDAR
PRODID:-//PUBBLE//agenda//NL
VERSION:2.0
METHOD:PUBLISH
BEGIN:VEVENT
DTSTART:20250820T120000Z
DTEND:20250820T140000Z
DTSTAMP:20260425T200901Z
UID:fad67ef9-f1dd-481b-bf19-1c21bcc244bb
CREATED:20260425T200901Z
NAME:Struintocht voor kinderen in het Munnikenland 20 aug bommelerwaardgids.nl
X-WR-CALNAME:Struintocht voor kinderen in het Munnikenland 20 aug
X-ALT-DESC;FMTTYPE=text/html:<a href='/agenda/2025/8/20/struintocht-voor-kinderen-in-het-munnikenland-20-aug-21365'>/agenda/2025/8/20/struintocht-voor-kinderen-in-het-munnikenland-20-aug-21365</a> || <p>Kom in de vakantie op avontuur in de wilde natuur rondom Slot Loevestein. Het leuke is, je mag overal struinen en op zoek gaan naar mooie dingen zoals veren, stenen of schelpen. Ook bekijk je kleine bloemetjes door een loepje, ga je in bomen klimmen en mag je lekker stampen door de modder. Misschien kom je wel oog in oog te staan met konikpaarden of rode geuzen. Spannend! Je (groot)ouders mogen trouwens best mee hoor. aanmelding via <a href="//www.staatsbosbeheer.nl/activiteitenmunnikenland" rel="noopener noreferrer" target="_blank">www.staatsbosbeheer.nl/activiteitenmunnikenland</a></p>
DESCRIPTION:<a href='/agenda/2025/8/20/struintocht-voor-kinderen-in-het-munnikenland-20-aug-21365'>/agenda/2025/8/20/struintocht-voor-kinderen-in-het-munnikenland-20-aug-21365</a> || <p>Kom in de vakantie op avontuur in de wilde natuur rondom Slot Loevestein. Het leuke is, je mag overal struinen en op zoek gaan naar mooie dingen zoals veren, stenen of schelpen. Ook bekijk je kleine bloemetjes door een loepje, ga je in bomen klimmen en mag je lekker stampen door de modder. Misschien kom je wel oog in oog te staan met konikpaarden of rode geuzen. Spannend! Je (groot)ouders mogen trouwens best mee hoor. aanmelding via <a href="//www.staatsbosbeheer.nl/activiteitenmunnikenland" rel="noopener noreferrer" target="_blank">www.staatsbosbeheer.nl/activiteitenmunnikenland</a></p>
LAST-MODIFIED:20260425T200901Z
LOCATION: Slot Loevestein | Loevestein 1 Poederoijen
SEQUENCE:0
STATUS:CONFIRMED
SUMMARY:Struintocht voor kinderen in het Munnikenland 20 aug
TRANSP:OPAQUE
END:VEVENT
END:VCALENDAR
