BEGIN:VCALENDAR
PRODID:-//PUBBLE//agenda//NL
VERSION:2.0
METHOD:PUBLISH
BEGIN:VEVENT
DTSTART:20250518T090000Z
DTEND:20250518T110000Z
DTSTAMP:20260425T040411Z
UID:21b15d3b-e159-4f9e-a131-f6b7ac588606
CREATED:20260425T040411Z
NAME:Jonge dieren van het Munnikenland 18 mei bommelerwaardgids.nl
X-WR-CALNAME:Jonge dieren van het Munnikenland 18 mei
X-ALT-DESC;FMTTYPE=text/html:<a href='/agenda/2025/5/18/jonge-dieren-van-het-munnikenland-18-mei-21079'>/agenda/2025/5/18/jonge-dieren-van-het-munnikenland-18-mei-21079</a> || <p>Aanvang 11:00 uur, Poederoijen, Slot Loevestein</p><p>De gids van Staatsbosbeheer laat zien hoe de merries van de konikpaarden hun veulens in toom houden. Kom samen met je kinderen struinen: <a href="//www.staatsbosbeheer.nl/activiteitenmunnikenland" rel="noopener noreferrer" target="_blank">www.staatsbosbeheer.nl/activiteitenmunnikenland</a></p><p>Hoera! Er zijn jonge dieren in het Munnikenland. Kom met je kinderen struinen buiten de paden in het ruige gebied rond Slot Loevestein. De gids van Staatsbosbeheer laat hen zien hoe de merries van de konikpaarden hun veulens in toom houden. En wist je dat de koeien van de rode geuzen hun kalveren in crèches houden, onder het toeziend oog van een tante? De gids vertelt alles over hoe deze en vele andere jonge dieren opgroeien in het rivierengebied. Meld je aan via website: <a href="//www.staatsbosbeheer.nl/activiteitenmunnikenland" rel="noopener noreferrer" target="_blank">www.staatsbosbeheer.nl/activiteitenmunnikenland</a></p>
DESCRIPTION:<a href='/agenda/2025/5/18/jonge-dieren-van-het-munnikenland-18-mei-21079'>/agenda/2025/5/18/jonge-dieren-van-het-munnikenland-18-mei-21079</a> || <p>Aanvang 11:00 uur, Poederoijen, Slot Loevestein</p><p>De gids van Staatsbosbeheer laat zien hoe de merries van de konikpaarden hun veulens in toom houden. Kom samen met je kinderen struinen: <a href="//www.staatsbosbeheer.nl/activiteitenmunnikenland" rel="noopener noreferrer" target="_blank">www.staatsbosbeheer.nl/activiteitenmunnikenland</a></p><p>Hoera! Er zijn jonge dieren in het Munnikenland. Kom met je kinderen struinen buiten de paden in het ruige gebied rond Slot Loevestein. De gids van Staatsbosbeheer laat hen zien hoe de merries van de konikpaarden hun veulens in toom houden. En wist je dat de koeien van de rode geuzen hun kalveren in crèches houden, onder het toeziend oog van een tante? De gids vertelt alles over hoe deze en vele andere jonge dieren opgroeien in het rivierengebied. Meld je aan via website: <a href="//www.staatsbosbeheer.nl/activiteitenmunnikenland" rel="noopener noreferrer" target="_blank">www.staatsbosbeheer.nl/activiteitenmunnikenland</a></p>
LAST-MODIFIED:20260425T040411Z
LOCATION: Slot Loevestein | Loevestein 1 Poederoijen
SEQUENCE:0
STATUS:CONFIRMED
SUMMARY:Jonge dieren van het Munnikenland 18 mei
TRANSP:OPAQUE
END:VEVENT
END:VCALENDAR
