BEGIN:VCALENDAR
PRODID:-//PUBBLE//agenda//NL
VERSION:2.0
METHOD:PUBLISH
BEGIN:VEVENT
DTSTART:20250502T090000Z
DTEND:20250502T110000Z
DTSTAMP:20260426T010119Z
UID:25ae5170-65c4-4b0b-9166-030495954b43
CREATED:20260426T010119Z
NAME:Struintocht voor kinderen in het Munnikenland 2 mei bommelerwaardgids.nl
X-WR-CALNAME:Struintocht voor kinderen in het Munnikenland 2 mei
X-ALT-DESC;FMTTYPE=text/html:<a href='/agenda/2025/5/2/struintocht-voor-kinderen-in-het-munnikenland-2-mei-21077'>/agenda/2025/5/2/struintocht-voor-kinderen-in-het-munnikenland-2-mei-21077</a> || <p>Aanvang 11:00 uur, Slot Loevestein, Poederoijen</p><p>Kom in de vakantie op avontuur in de wilde natuur rondom Slot Loevestein. Het leuke is, je mag overal struinen en op zoek gaan naar mooie dingen zoals veren, stenen of schelpen. Ook bekijk je kleine bloemetjes door een loepje, ga je in bomen klimmen en mag je lekker stampen door de modder. Misschien kom je wel oog in oog te staan met konikpaarden of rode geuzen. Spannend! Je (groot)ouders mogen trouwens best mee hoor. meld je aan via website: <a href="//www.staatsbosbeheer.nl/activiteitenmunnikenland" rel="noopener noreferrer" target="_blank">www.staatsbosbeheer.nl/activiteitenmunnikenland</a></p>
DESCRIPTION:<a href='/agenda/2025/5/2/struintocht-voor-kinderen-in-het-munnikenland-2-mei-21077'>/agenda/2025/5/2/struintocht-voor-kinderen-in-het-munnikenland-2-mei-21077</a> || <p>Aanvang 11:00 uur, Slot Loevestein, Poederoijen</p><p>Kom in de vakantie op avontuur in de wilde natuur rondom Slot Loevestein. Het leuke is, je mag overal struinen en op zoek gaan naar mooie dingen zoals veren, stenen of schelpen. Ook bekijk je kleine bloemetjes door een loepje, ga je in bomen klimmen en mag je lekker stampen door de modder. Misschien kom je wel oog in oog te staan met konikpaarden of rode geuzen. Spannend! Je (groot)ouders mogen trouwens best mee hoor. meld je aan via website: <a href="//www.staatsbosbeheer.nl/activiteitenmunnikenland" rel="noopener noreferrer" target="_blank">www.staatsbosbeheer.nl/activiteitenmunnikenland</a></p>
LAST-MODIFIED:20260426T010119Z
LOCATION: Slot Loevestein | Loevestein 1 Poederoijen
SEQUENCE:0
STATUS:CONFIRMED
SUMMARY:Struintocht voor kinderen in het Munnikenland 2 mei
TRANSP:OPAQUE
END:VEVENT
END:VCALENDAR
