BEGIN:VCALENDAR
PRODID:-//PUBBLE//agenda//NL
VERSION:2.0
METHOD:PUBLISH
BEGIN:VEVENT
DTSTART:20241216T180228Z
DTEND:20250104T190000Z
DTSTAMP:20260422T110554Z
UID:5ff14fdb-5aae-41f5-a09a-01eac6a52d17
CREATED:20260422T110554Z
NAME:Kaarsverlichte rondleidingen op Loevestein bommelerwaardgids.nl
X-WR-CALNAME:Kaarsverlichte rondleidingen op Loevestein
X-ALT-DESC;FMTTYPE=text/html:<a href='/agenda/2025/1/3/kaarsverlichte-rondleidingen-op-loevestein-20298'>/agenda/2025/1/3/kaarsverlichte-rondleidingen-op-loevestein-20298</a> || <p>Vanaf 17:00 uur, Slot Loevestein in Poederoijen</p><p>Tijdens de kerstvakantie organiseert Loevestein vier avonden met kaarsverlichte rondleidingen en winterse gerechten. De aankomst deze avond is al bijzonder. In het donker wandelen bezoekers naar het verlichte kasteel toe, en door de sfeervol verlichte vesting naar de gezellige verzamelplaats op de Voorburcht. De historische muren, geplaveide binnenplaats, houten bruggen en hoge torens vormen het perfecte decor voor een klassieke kerstgevoel. Rond vuurkorven kan genoten worden van een warme chocomel of Glühwein volgens Victoriaans recept, terwijl er live kerstliederen gezongen worden.</p><p>Na deze warme ontvangst is het tijd voor het diner in het sfeervolle Brouwhuis mét uitzicht op het kasteel. Het diner start met een uitgeserveerd voorgerecht, gevolgd door een uitgebreid winters stamppotbuffet met drie soorten stamppot en heerlijke garnituren. Het smakelijke Victoriaanse toetje zal ook worden uitgeserveerd aan tafel. De rondleiding door het kasteel is een hele bijzondere, want speciaal voor deze avond is het hele kasteel verlicht met kaarsen. De sfeer is uniek, en de verhalen zijn zo nóg mooier. Een herinnering die om nooit te vergeten.</p><p>De kaarsverlichte rondleidingen vinden plaats op 27 en 28 december en 3 en 4 januari, steeds vanaf 17:00 uur. Er zijn maximaal 70 plaatsen per avond beschikbaar. Reserveren is noodzakelijk en kan via de website van Slot Loevestein. Bekijk alle details en het programma op: <a href="https://www.slotloevestein.nl/agenda/kaarsverlichte-rondleidingen/" rel="noopener noreferrer" target="_blank">www.slotloevestein.nl/agenda/kaarsverlichte-rondleidingen/</a></p>
DESCRIPTION:<a href='/agenda/2025/1/3/kaarsverlichte-rondleidingen-op-loevestein-20298'>/agenda/2025/1/3/kaarsverlichte-rondleidingen-op-loevestein-20298</a> || <p>Vanaf 17:00 uur, Slot Loevestein in Poederoijen</p><p>Tijdens de kerstvakantie organiseert Loevestein vier avonden met kaarsverlichte rondleidingen en winterse gerechten. De aankomst deze avond is al bijzonder. In het donker wandelen bezoekers naar het verlichte kasteel toe, en door de sfeervol verlichte vesting naar de gezellige verzamelplaats op de Voorburcht. De historische muren, geplaveide binnenplaats, houten bruggen en hoge torens vormen het perfecte decor voor een klassieke kerstgevoel. Rond vuurkorven kan genoten worden van een warme chocomel of Glühwein volgens Victoriaans recept, terwijl er live kerstliederen gezongen worden.</p><p>Na deze warme ontvangst is het tijd voor het diner in het sfeervolle Brouwhuis mét uitzicht op het kasteel. Het diner start met een uitgeserveerd voorgerecht, gevolgd door een uitgebreid winters stamppotbuffet met drie soorten stamppot en heerlijke garnituren. Het smakelijke Victoriaanse toetje zal ook worden uitgeserveerd aan tafel. De rondleiding door het kasteel is een hele bijzondere, want speciaal voor deze avond is het hele kasteel verlicht met kaarsen. De sfeer is uniek, en de verhalen zijn zo nóg mooier. Een herinnering die om nooit te vergeten.</p><p>De kaarsverlichte rondleidingen vinden plaats op 27 en 28 december en 3 en 4 januari, steeds vanaf 17:00 uur. Er zijn maximaal 70 plaatsen per avond beschikbaar. Reserveren is noodzakelijk en kan via de website van Slot Loevestein. Bekijk alle details en het programma op: <a href="https://www.slotloevestein.nl/agenda/kaarsverlichte-rondleidingen/" rel="noopener noreferrer" target="_blank">www.slotloevestein.nl/agenda/kaarsverlichte-rondleidingen/</a></p>
LAST-MODIFIED:20260422T110554Z
LOCATION: Slot Loevestein | Loevestein 1 Poederoijen
SEQUENCE:0
STATUS:CONFIRMED
SUMMARY:Kaarsverlichte rondleidingen op Loevestein
TRANSP:OPAQUE
END:VEVENT
END:VCALENDAR
