BEGIN:VCALENDAR
PRODID:-//PUBBLE//agenda//NL
VERSION:2.0
METHOD:PUBLISH
BEGIN:VEVENT
DTSTART:20241024T183000Z
DTEND:20241026T103000Z
DTSTAMP:20260424T104846Z
UID:834ad303-f805-464d-973c-a7ee8bd4693b
CREATED:20260424T104846Z
NAME:Vogelshow in Poederoijen bommelerwaardgids.nl
X-WR-CALNAME:Vogelshow in Poederoijen
X-ALT-DESC;FMTTYPE=text/html:<a href='/agenda/2024/10/24/vogelshow-in-poederoijen-19861'>/agenda/2024/10/24/vogelshow-in-poederoijen-19861</a> || <p>Aanvang 20:30 uur, Dorpshuis Podarwic, Burgemeester Posweg 1 in Poederoijen</p><p>Vogelvereniging Het Bonte Boertje houdt tussen 24 en 26 oktober haar jaarlijkse Nationale vogelshow. Tijdens deze tentoonstelling kunnen de vele vogels die leden en leden van zusterverenigingen hebben gekweekt worden bekeken. Tijdens deze show zijn niet alleen de vele prachtige kanaries en parkieten vertegenwoordigd, maar er zijn ook vele tropische vogels zijn er te bewonderen. De show wordt donderdag 24 oktober om 20:30 uur geopend en is die avond nog tot 22:00 uur te bezoeken. Ook op vrijdag 25 oktober, van 11:00 tot 22:00 uur, en op zaterdag 26 oktober, van 10:00 tot 12:30 uur zijn de vogels te bekijken. De toegang is gratis.</p>
DESCRIPTION:<a href='/agenda/2024/10/24/vogelshow-in-poederoijen-19861'>/agenda/2024/10/24/vogelshow-in-poederoijen-19861</a> || <p>Aanvang 20:30 uur, Dorpshuis Podarwic, Burgemeester Posweg 1 in Poederoijen</p><p>Vogelvereniging Het Bonte Boertje houdt tussen 24 en 26 oktober haar jaarlijkse Nationale vogelshow. Tijdens deze tentoonstelling kunnen de vele vogels die leden en leden van zusterverenigingen hebben gekweekt worden bekeken. Tijdens deze show zijn niet alleen de vele prachtige kanaries en parkieten vertegenwoordigd, maar er zijn ook vele tropische vogels zijn er te bewonderen. De show wordt donderdag 24 oktober om 20:30 uur geopend en is die avond nog tot 22:00 uur te bezoeken. Ook op vrijdag 25 oktober, van 11:00 tot 22:00 uur, en op zaterdag 26 oktober, van 10:00 tot 12:30 uur zijn de vogels te bekijken. De toegang is gratis.</p>
LAST-MODIFIED:20260424T104846Z
LOCATION: Dorpshuis Podarwic | Burgemeester Posweg 1 Poederoijen
SEQUENCE:0
STATUS:CONFIRMED
SUMMARY:Vogelshow in Poederoijen
TRANSP:OPAQUE
END:VEVENT
END:VCALENDAR
