BEGIN:VCALENDAR
PRODID:-//PUBBLE//agenda//NL
VERSION:2.0
METHOD:PUBLISH
BEGIN:VEVENT
DTSTART:20241023T120000Z
DTEND:20241023T143000Z
DTSTAMP:20260424T155004Z
UID:44132cbb-ea7e-47c9-b14a-822fbdb86253
CREATED:20260424T155004Z
NAME:Repair Café Zaltbommel bommelerwaardgids.nl
X-WR-CALNAME:Repair Café Zaltbommel
X-ALT-DESC;FMTTYPE=text/html:<a href='/agenda/2024/10/23/repair-cafe-zaltbommel-19733'>/agenda/2024/10/23/repair-cafe-zaltbommel-19733</a> || <p>Van 14:00 tot 16:30 uur in Pand 9 in Zaltbommel</p><p>Vrijwilligers zitten klaar om kapotte spullen te herstellen of repareren. Van kleding tot fietsen, van huishoudelijke apparatuur tot computers.</p>
DESCRIPTION:<a href='/agenda/2024/10/23/repair-cafe-zaltbommel-19733'>/agenda/2024/10/23/repair-cafe-zaltbommel-19733</a> || <p>Van 14:00 tot 16:30 uur in Pand 9 in Zaltbommel</p><p>Vrijwilligers zitten klaar om kapotte spullen te herstellen of repareren. Van kleding tot fietsen, van huishoudelijke apparatuur tot computers.</p>
LAST-MODIFIED:20260424T155004Z
LOCATION: Pand9 | van Heemstraweg-west 9 Zaltbommel
SEQUENCE:0
STATUS:CONFIRMED
SUMMARY:Repair Café Zaltbommel
TRANSP:OPAQUE
END:VEVENT
END:VCALENDAR
